OziExplorer Map Data File Version 2.2
MCR2010_Radesin.tif
C:\Users\Tomas Krahula\Mapy\Radešín\MCR2010_Radesin.ozf2
1 ,Map Code,
WGS 84,WGS 84, 0.0000, 0.0000,WGS 84
Reserved 1
Reserved 2
Magnetic Variation,,,E
Map Projection,(UTM) Univerzální transverzální Mercator,PolyCal,No,AutoCalOnly,No,BSBUseWPX,No
Point01,xy, 1412, 293,in, deg, 49,41.8151167,N, 15,48.3669333,E, grid, , , ,N
Point02,xy,11690, 861,in, deg, 49,40.18005,N, 16,24.4988833,E, grid, , , ,N
Point03,xy, 728,11176,in, deg, 49,16.9991833,N, 15,45.5396833,E, grid, , , ,N
Point04,xy,12368,11196,in, deg, 49,16.5448333,N, 16,26.1987667,E, grid, , , ,N
Point05,xy, 6363, 6214,in, deg, 49, 28.1519,N, 16,5.48856667,E, grid, , , ,N
Point06,xy, 5795, 451,in, deg, 49,41.3299667,N, 16, 3.7792,E, grid, , , ,N
Point07,xy, 704, 5843,in, deg, 49,29.1579667,N, 15,45.66855,E, grid, , , ,N
Point08,xy, 5932,11286,in, deg, 49,16.5799667,N, 16, 3.73725,E, grid, , , ,N
Point09,xy,11741, 5458,in, deg, 49,29.6756667,N, 16,24.36855,E, grid, , , ,N
Point10,xy, , ,in, deg, , ,N, , ,W, grid, , , ,N
Point11,xy, , ,in, deg, , ,N, , ,W, grid, , , ,N
Point12,xy, , ,in, deg, , ,N, , ,W, grid, , , ,N
Point13,xy, , ,in, deg, , ,N, , ,W, grid, , , ,N
Point14,xy, , ,in, deg, , ,N, , ,W, grid, , , ,N
Point15,xy, , ,in, deg, , ,N, , ,W, grid, , , ,N
Point16,xy, , ,in, deg, , ,N, , ,W, grid, , , ,N
Point17,xy, , ,in, deg, , ,N, , ,W, grid, , , ,N
Point18,xy, , ,in, deg, , ,N, , ,W, grid, , , ,N
Point19,xy, , ,in, deg, , ,N, , ,W, grid, , , ,N
Point20,xy, , ,in, deg, , ,N, , ,W, grid, , , ,N
Point21,xy, , ,in, deg, , ,N, , ,W, grid, , , ,N
Point22,xy, , ,in, deg, , ,N, , ,W, grid, , , ,N
Point23,xy, , ,in, deg, , ,N, , ,W, grid, , , ,N
Point24,xy, , ,in, deg, , ,N, , ,W, grid, , , ,N
Point25,xy, , ,in, deg, , ,N, , ,W, grid, , , ,N
Point26,xy, , ,in, deg, , ,N, , ,W, grid, , , ,N
Point27,xy, , ,in, deg, , ,N, , ,W, grid, , , ,N
Point28,xy, , ,in, deg, , ,N, , ,W, grid, , , ,N
Point29,xy, , ,in, deg, , ,N, , ,W, grid, , , ,N
Point30,xy, , ,in, deg, , ,N, , ,W, grid, , , ,N
Projection Setup,,,,,,,,,,
Map Feature = MF ; Map Comment = MC These follow if they exist
Track File = TF These follow if they exist
Moving Map Parameters = MM? These follow if they exist
MM0,Yes
MMPNUM,4
MMPXY,1,0,0
MMPXY,2,12402,0
MMPXY,3,12402,11517
MMPXY,4,0,11517
MMPLL,1, 15.723268, 49.708684
MMPLL,2, 16.451122, 49.701763
MMPLL,3, 16.438160, 49.263560
MMPLL,4, 15.716771, 49.270376
MM1B,4.232463
LL Grid Setup
LLGRID,No,No Grid,Yes,255,16711680,0,No Labels,0,16777215,7,1,Yes,x
Other Grid Setup
GRGRID,No,No Grid,Yes,255,16711680,No Labels,0,16777215,8,1,Yes,No,No,x
MOP,Map Open Position,0,0
IWH,Map Image Width/Height,12520,11634
